BEGIN:VCALENDAR
VERSION:2.0
CALSCALE:GREGORIAN
PRODID:adamgibbons/ics
METHOD:PUBLISH
X-PUBLISHED-TTL:PT1H
BEGIN:VEVENT
UID:393@buffalol.askapunk.net
SUMMARY:Film & Gender\, Jerry Big's World Famous Band\, Hostile Makeover\, 
	Lil Twiggy & The Green Aardvark Mafia
DTSTAMP:20260423T070401Z
DTSTART:20260524T220000Z
URL:https://buffalo.askapunk.net/event/film-and-gender-jerry-bigs-world-fam
	ous-band-hostile-makeover-lil-twiggy-and-the-green-aardvark-mafia
LOCATION:Area 54 - 3234 Main St
STATUS:CONFIRMED
CATEGORIES:Amy’s Place,Area 54,Film & Gender,Hostile Makeover,Jerry Big's W
	orld Famous Band,Lavender Room,lil twiggy & the green aardvark mafia
END:VEVENT
END:VCALENDAR
